BEGIN:VCALENDAR
VERSION:2.0
PRODID:-//Hiking Outdoor Adventure - ECPv6.15.20//NONSGML v1.0//EN
CALSCALE:GREGORIAN
METHOD:PUBLISH
X-WR-CALNAME:Hiking Outdoor Adventure
X-ORIGINAL-URL:https://hikingoutdooradventures.com
X-WR-CALDESC:Events for Hiking Outdoor Adventure
REFRESH-INTERVAL;VALUE=DURATION:PT1H
X-Robots-Tag:noindex
X-PUBLISHED-TTL:PT1H
BEGIN:VTIMEZONE
TZID:Africa/Kigali
BEGIN:STANDARD
TZOFFSETFROM:+0200
TZOFFSETTO:+0200
TZNAME:CAT
DTSTART:20250101T000000
END:STANDARD
END:VTIMEZONE
BEGIN:VEVENT
DTSTART;TZID=Africa/Kigali:20260207T080000
DTEND;TZID=Africa/Kigali:20260207T080000
DTSTAMP:20260420T012758
CREATED:20260203T101707Z
LAST-MODIFIED:20260204T081020Z
UID:5097-1770451200-1770451200@hikingoutdooradventures.com
SUMMARY:7th February 2026/ REBERO TRAIL | 11 KM – MODERATE
DESCRIPTION:REBERO TRAIL | 11 KM – MODERATE\nA professionally guided hike focused on endurance and outdoor discipline.\nGood physical fitness required.\n📅 Saturday\, 07 February 2026\n📍 Meeting Point: Rebero | Juru Park\n🕗 Start: 08:00 AM\n💰 Fee: 5\,000 RWF (refreshments not included)\n📲 Bookings: Sinc.events *669*2218#\n📞 Contact: +250 795 296 557 \nEmail: info@hikingOutdooradventures.com/hikingoutdooradventure8@gmail.com \nBook Now \n☕ Post-hike refreshments: Eagle View Lodge\nHOA 360 — Adventure. Endurance. Excellence.
URL:https://hikingoutdooradventures.com/event/07-february-2026-rebero-trail-11-km-moderate/
CATEGORIES:Hiking
ATTACH;FMTTYPE=image/jpeg:https://hikingoutdooradventures.com/wp-content/uploads/2026/02/rebero.jpeg
ORGANIZER;CN="Hiking Outdoor Adventure":MAILTO:info@hikingoutdooradventure.com
END:VEVENT
BEGIN:VEVENT
DTSTART;TZID=Africa/Kigali:20260208T080000
DTEND;TZID=Africa/Kigali:20260208T080000
DTSTAMP:20260420T012758
CREATED:20260203T101912Z
LAST-MODIFIED:20260204T081007Z
UID:5099-1770537600-1770537600@hikingoutdooradventures.com
SUMMARY:8th Feb 2026/ GASHORA HIKE & CULTURAL EXPERIENCE
DESCRIPTION:HOA 360\nGASHORA HIKE &\nCULTURAL EXPERIENCE\n📍 Bugesera\n🥾 15 KM Adventure Hike\n🌿 Culture • Farm Visit • Swamp Experience\n🗓 Sunday\, 08 Feb 2026\n⏰ 08:00 AM\n📍 Eagle View Farm\, Gashora\n💰 Fee: 15\,000 RWF\n📲 Book via Sinc Events\nScan QR or Dial *669*2218#\n📞 +250 795 296 557 \n\n\n\n\n\nEmail: info@hikingOutdooradventures.com/hikingoutdooradventure8@gmail.com \n\n\n\n\n\n📸 @HikingOutdoorAdventures360\n🔥 Limited spots — Book now\n#HOA360 #GashoraHike #Bugesera #SwampHike ✨️🇷🇼♥️
URL:https://hikingoutdooradventures.com/event/08-feb-2026-gashora-hike-cultural-experience/
CATEGORIES:Hiking
ATTACH;FMTTYPE=image/jpeg:https://hikingoutdooradventures.com/wp-content/uploads/2026/02/Gashora.jpeg
END:VEVENT
END:VCALENDAR