BEGIN:VCALENDAR
VERSION:2.0
PRODID:-//Hiking Outdoor Adventure - ECPv6.15.20//NONSGML v1.0//EN
CALSCALE:GREGORIAN
METHOD:PUBLISH
X-WR-CALNAME:Hiking Outdoor Adventure
X-ORIGINAL-URL:https://hikingoutdooradventures.com
X-WR-CALDESC:Events for Hiking Outdoor Adventure
REFRESH-INTERVAL;VALUE=DURATION:PT1H
X-Robots-Tag:noindex
X-PUBLISHED-TTL:PT1H
BEGIN:VTIMEZONE
TZID:Africa/Kigali
BEGIN:STANDARD
TZOFFSETFROM:+0200
TZOFFSETTO:+0200
TZNAME:CAT
DTSTART:20240101T000000
END:STANDARD
END:VTIMEZONE
BEGIN:VEVENT
DTSTART;TZID=Africa/Kigali:20251101T060000
DTEND;TZID=Africa/Kigali:20251101T060000
DTSTAMP:20260420T070405
CREATED:20251031T074427Z
LAST-MODIFIED:20251031T074434Z
UID:4724-1761976800-1761976800@hikingoutdooradventures.com
SUMMARY:01st November 2025 CONQUER NYAMURINDIRA ROCKS
DESCRIPTION:Be bold. Have fun. Let’s go hiking! \n \nOrganized by: Hiking Outdoor Adventures\n+250 795 296 557\n MoMoPay: 2202202 (Hiking Outdoor Adventures)\nFee: 20\,000 RWF per person (Includes guiding and transport)\nMeeting Point: Engen Petrol Station\, near Inyange Factory\, Masaka – 06:00 AM \n    \nEmail: info@hikingoutdooradventures.com / hikingoutdooradventure8@gmail.com \nBook Now \n#HikingRwanda #NyamurindiraChallenge #HikingOutdoorAdventures
URL:https://hikingoutdooradventures.com/event/01st-november-2025-conquer-nyamurindira-rocks/
CATEGORIES:Hiking
ATTACH;FMTTYPE=image/jpeg:https://hikingoutdooradventures.com/wp-content/uploads/2025/10/WhatsApp-Image-2025-10-31-at-8.15.16-AM.jpeg
ORGANIZER;CN="Hiking Outdoor Adventure":MAILTO:info@hikingoutdooradventure.com
END:VEVENT
BEGIN:VEVENT
DTSTART;VALUE=DATE:20251115
DTEND;VALUE=DATE:20251116
DTSTAMP:20260420T070405
CREATED:20251113T072210Z
LAST-MODIFIED:20251113T072210Z
UID:4884-1763164800-1763251199@hikingoutdooradventures.com
SUMMARY:15th November 2025/ NYUNGWE ZIPLINE & CANOPY WALK
DESCRIPTION:NYUNGWE ZIPLINE & CANOPY WALK\nGet ready for fun and adrenaline! \n Saturday\, 15th November 2025\n 70\,000 RWF  for Rwandan citizens only \n Soar above the rainforest and step into the treetops for an unforgettable adventure in Nyungwe! \n \n MoMoPay 2202202 – Hiking Outdoor Adventures\n +250 795 296 557 \nEmail: info@hikingOutdooradventures.com / hikingoutdooradventure8@gmail.com \nBook Now \n   \n✨ Nature • Adventure • Adrenaline\n www.hikingoutdooradventures.com
URL:https://hikingoutdooradventures.com/event/15th-november-2025-nyungwe-zipline-canopy-walk/
CATEGORIES:Canopy Walk,Zipline
ATTACH;FMTTYPE=image/jpeg:https://hikingoutdooradventures.com/wp-content/uploads/2025/11/WhatsApp-Image-2025-11-13-at-6.20.51-AM.jpeg
ORGANIZER;CN="Hiking Outdoor Adventure":MAILTO:info@hikingoutdooradventure.com
END:VEVENT
BEGIN:VEVENT
DTSTART;TZID=Africa/Kigali:20251122T073000
DTEND;TZID=Africa/Kigali:20251122T073000
DTSTAMP:20260420T070405
CREATED:20251118T080644Z
LAST-MODIFIED:20251118T080734Z
UID:4926-1763796600-1763796600@hikingoutdooradventures.com
SUMMARY:22nd NOVEMBER 2025 / NYANZA HIKE 15 KM
DESCRIPTION:SATURDAY\, 22nd NOVEMBER 2025 \nNYANZA HIKE 15 KM \nA trail of culture\, rhythm\, and pure adventure! ✨️♥️ \nMeeting Point: Parking of STELLA VIP\, Kicukiro\n⏱️ Arrival: 07:30 am\n‍♂️ Departure: 08:00 am \nFee: 4\,000 RWF\nMoMoPay: 2202202/ Hiking Outdoor Adventures \n+250 795 296 557\nwww.hikingoutdooradventures.com \nEmail: info@hikingOutdooradventures.com/ hikingoutdooradventure8@gmail.com \nBook Now \nEXPLORE • ENDURE • ELEVATE \nhttps://hikingoutdooradventures.com/wp-content/uploads/2025/11/WhatsApp-Video-2025-11-18-at-9.50.50-AM.mp4\nStep into the spirit of Nyanza and conquer 15 km of culture\, energy\, and adventure. \n#HikingOutdoorAdventures #HOA360 #NyanzaHike #ExploreRwanda #HikingRwanda #WeekendAdventure #DiscoverRwanda #EnduranceHike #AdventureCulture #ExploreEndureElevate
URL:https://hikingoutdooradventures.com/event/22nd-november-2025-nyanza-hike-15-km/
CATEGORIES:Hiking
ATTACH;FMTTYPE=image/jpeg:https://hikingoutdooradventures.com/wp-content/uploads/2025/11/WhatsApp-Image-2025-11-18-at-9.50.50-AM.jpeg
ORGANIZER;CN="Hiking Outdoor Adventure":MAILTO:info@hikingoutdooradventure.com
END:VEVENT
BEGIN:VEVENT
DTSTART;TZID=Africa/Kigali:20251130T073000
DTEND;TZID=Africa/Kigali:20251130T073000
DTSTAMP:20260420T070405
CREATED:20251127T054748Z
LAST-MODIFIED:20251127T054836Z
UID:4933-1764487800-1764487800@hikingoutdooradventures.com
SUMMARY:30 Nov 2025/ GIKORO TO GAHENGERI LOOP 15km
DESCRIPTION:Ready for a real challenge?\nFresh hills\, wild valleys\, breathtaking views  this trail brings pure adrenaline and adventure in the heart of Rwanda! ✨ \nStart: Engen Petrol Station near Inyange Factory\, Masaka 07:30 AM\nFee: 5\,000 RWF\n+250 795 296 557\nDial *669*2218# to book your spot! \nEmail: info@hikingOutdooradventures.com / hikingoutdooradventure8@gmail.com \nBook Now \nhttps://hikingoutdooradventures.com/wp-content/uploads/2025/11/WhatsApp-Video-2025-11-27-at-7.14.59-AM.mp4\n#HOA360 #HikingRwanda #GahengeriLoop #ExploreRwanda #AdventureRwanda\n#TrailChallenge #WeekendAdventure #OutdoorRwanda #VisitRwanda\n#ChallengeYourself #NatureRwanda #HikingCommunity #AdrenalineRwanda
URL:https://hikingoutdooradventures.com/event/30-nov-2025-gikoro-to-gahengeri-loop-15km/
CATEGORIES:Hiking
ATTACH;FMTTYPE=image/jpeg:https://hikingoutdooradventures.com/wp-content/uploads/2025/11/WhatsApp-Image-2025-11-27-at-7.14.41-AM.jpeg
ORGANIZER;CN="Hiking Outdoor Adventure":MAILTO:info@hikingoutdooradventure.com
END:VEVENT
END:VCALENDAR