BEGIN:VCALENDAR
VERSION:2.0
PRODID:-//Hiking Outdoor Adventure - ECPv6.15.20//NONSGML v1.0//EN
CALSCALE:GREGORIAN
METHOD:PUBLISH
X-WR-CALNAME:Hiking Outdoor Adventure
X-ORIGINAL-URL:https://hikingoutdooradventures.com
X-WR-CALDESC:Events for Hiking Outdoor Adventure
REFRESH-INTERVAL;VALUE=DURATION:PT1H
X-Robots-Tag:noindex
X-PUBLISHED-TTL:PT1H
BEGIN:VTIMEZONE
TZID:Africa/Kigali
BEGIN:STANDARD
TZOFFSETFROM:+0200
TZOFFSETTO:+0200
TZNAME:CAT
DTSTART:20240101T000000
END:STANDARD
END:VTIMEZONE
BEGIN:VEVENT
DTSTART;TZID=Africa/Kigali:20250727T060000
DTEND;TZID=Africa/Kigali:20250727T060000
DTSTAMP:20260420T094317
CREATED:20250708T101623Z
LAST-MODIFIED:20250708T102214Z
UID:4013-1753596000-1753596000@hikingoutdooradventures.com
SUMMARY:27th July 2025 / Conquer Nyamurindira Rocks
DESCRIPTION:✨ Hiking Outdoor Adventures\n27th July 2025\nConquer Nyamurindira Rocks \nJoin us for a wild day out! Take on a 14 km hike through the stunning landscapes of Nyamurindira Rocks. From bold cliffs to panoramic views\, this is your chance to explore one of Rwanda’s hidden treasures. \n       \n \nBe bold. Have fun. Let’s go hiking! \nOrganized by: Hiking Outdoor Adventures\n‪+250 795 296 557‬\nMoMoPay: 2202202 (Hiking Outdoor Adventures)\nFee: 25\,000 RWF\nMeeting Point: Chez Lando Hotel\, Remera\nDeparture: 06:00 AM sharp \nEmail: info@hikingoutdooradventures.com / hikingoutdooradventure8@gmail.com \nGet inspired View more about our experience conquering Nyamurindira Rocks \nBook Now
URL:https://hikingoutdooradventures.com/event/27th-july-2025-conquer-nyamurindira-rocks/
CATEGORIES:Hiking
ATTACH;FMTTYPE=image/jpeg:https://hikingoutdooradventures.com/wp-content/uploads/2025/07/WhatsApp-Image-2025-07-08-at-12.01.07_3666b739.jpg
ORGANIZER;CN="Hiking Outdoor Adventure":MAILTO:info@hikingoutdooradventure.com
END:VEVENT
BEGIN:VEVENT
DTSTART;TZID=Africa/Kigali:20250719T060000
DTEND;TZID=Africa/Kigali:20250719T060000
DTSTAMP:20260420T094317
CREATED:20250708T085913Z
LAST-MODIFIED:20250708T090507Z
UID:4005-1752904800-1752904800@hikingoutdooradventures.com
SUMMARY:19th July 2025 / Kayak 5 km across Lake Muhazi
DESCRIPTION:KAYAK & HIKE \nKayak 5 km across Lake Muhazi\nHike 12 km through wild\, rugged terrain \n19th July 2025\nMeeting Point: Chez Lando Hotel\, Remera – 06:00 AM\nFee: 60\,000 RWF per person\nMoMoPay Code: 2202202 (Hiking Outdoor Adventures) \nIncluded: \n✅ Transport \n✅ Kayaks \n✅ Professional guides \n✅ Lunch (Brochettes & Chips) \n✅ Refreshment drinks during the challenge \n What to Bring For kayaking: \n✅ Relaxed clothes (expect to get wet) \n✅ Sandals \n What to Bring For hiking: \n✅ Light trousers \n✅ T-shirt \n✅ Small backpack with water\, snacks\, and a raincoat \n✅ Good hiking boots \nAlso bring: \n✅ Spare clothes for after the challenge \n⚠ Limited spots available – advance booking required!\nCall or WhatsApp: ‪+250 795 296 557‬ \nEmail: info@hikingoutdooradventures.com / hikingoutdooradventure8@gmail.com \nBook Now \nhttps://hikingoutdooradventures.com/wp-content/uploads/2025/07/WhatsApp-Video-2025-07-08-at-10.58.29_9ab5e2eb.mp4
URL:https://hikingoutdooradventures.com/event/19th-july-2025-kayak-5-km-across-lake-muhazi/
CATEGORIES:Hiking,Kayaking
ATTACH;FMTTYPE=image/jpeg:https://hikingoutdooradventures.com/wp-content/uploads/2025/07/WhatsApp-Image-2025-07-08-at-10.45.03_1118b423.jpg
ORGANIZER;CN="Hiking Outdoor Adventure":MAILTO:info@hikingoutdooradventure.com
END:VEVENT
BEGIN:VEVENT
DTSTART;TZID=Africa/Kigali:20250712T080000
DTEND;TZID=Africa/Kigali:20250712T120000
DTSTAMP:20260420T094317
CREATED:20250705T094203Z
LAST-MODIFIED:20250705T094527Z
UID:3997-1752307200-1752321600@hikingoutdooradventures.com
SUMMARY:12th July 2025 - Scenic Hike at Green Sport Park\, Gahanga
DESCRIPTION:Join Hiking Outdoor Adventures for a Scenic Hike at Green Sport Park\, Gahanga✨ \nDate: Saturday\, 12th July 2025\n⏰ Meeting Time: 08:00 AM\nStarting Point: Green Sport Park\, Gahanga\n‍♂ Distance: 12 km\nDifficulty: Easy and Perfect for all fitness levels \nGet ready to enjoy a refreshing 12 km hike through the serene and picturesque landscapes of Gahanga. Whether you’re a seasoned hiker or a beginner\, this easy trail offers the perfect opportunity to reconnect with nature\, meet like-minded adventurers\, and experience the joy of the outdoors in good company. \n \n✨ Come for the views\, stay for the vibes — and make unforgettable memories with the Hiking Outdoor Adventures Club! \n \n✅ Spots are limited  invite your friends and book early!\nFee: 5\,000 RWF\nMoMo Pay: 2202202 to Hiking Outdoor Adventures \nInfo & Booking: ‪+250 795 296 557‬\nEmail: info@hikingoutdooradventures.com / hikingoutdooradventure8@gmail.com\n✅ BOOK NOW
URL:https://hikingoutdooradventures.com/event/12th-july-2025-scenic-hike-at-green-sport-park-gahanga/
CATEGORIES:Hiking
ATTACH;FMTTYPE=image/jpeg:https://hikingoutdooradventures.com/wp-content/uploads/2025/07/WhatsApp-Image-2025-07-05-at-11.11.21_bd48a8f4.jpg
ORGANIZER;CN="Hiking Outdoor Adventure":MAILTO:info@hikingoutdooradventure.com
END:VEVENT
BEGIN:VEVENT
DTSTART;VALUE=DATE:20250706
DTEND;VALUE=DATE:20250707
DTSTAMP:20260420T094317
CREATED:20250630T091443Z
LAST-MODIFIED:20250630T092426Z
UID:3948-1751760000-1751846399@hikingoutdooradventures.com
SUMMARY:06th July 2025 – Conquer Nyamurindira Rocks
DESCRIPTION:Step into the wild heart of Rwanda and challenge yourself on a 13km trek through the raw\, untamed beauty of Nyamurindira Rocks. This isn’t just a hike — it’s a battle with boulders\, grit\, and gravity. \nAscend rugged slopes\, navigate ancient rock formations\, and test your endurance against nature’s tough terrain. Whether you’re chasing adrenaline or chasing limits\, this is where adventurers are made. \nBe bold. Be relentless. Be part of it. \nMomo Pay: 2202202 (Hiking Outdoor Adventures) \nCall us: +250 795 296 557 \nEmail us: info@hikingoutdooradventures.com / hikingoutdooradventure8@gmail.com  \nBook Now \nView More Events
URL:https://hikingoutdooradventures.com/event/06th-july-2025-conquer-nyamurindira-rocks/
CATEGORIES:Hiking
ATTACH;FMTTYPE=image/jpeg:https://hikingoutdooradventures.com/wp-content/uploads/2025/06/6th-july-event.jpg
END:VEVENT
BEGIN:VEVENT
DTSTART;TZID=Africa/Kigali:20250705T080000
DTEND;TZID=Africa/Kigali:20250705T120000
DTSTAMP:20260420T094317
CREATED:20250701T130347Z
LAST-MODIFIED:20250701T131637Z
UID:3987-1751702400-1751716800@hikingoutdooradventures.com
SUMMARY:5th July 2025 Hiking Gabiro Club\, Rusororo
DESCRIPTION:Join us for an unforgettable HIKING ADVENTURE! \nWhen: Saturday\, July 05\, 2025\nTime: 8:00 AM – 12:00 PM\nWhere: Gabiro Club\, Rusororo \nWe’ll be exploring a scenic 11 km moderate trail — perfect for nature lovers and hiking enthusiasts. This is your chance to reconnect with the outdoors\, enjoy breathtaking views\, and bond with fellow hikers. \nFee: 5\,000 RWF\nMoMo Pay: 2202202 \nReserve your spot now!\nCall or WhatsApp: ‪+250 795 296 557‬ \nEmail us: info@hikingoutdooradventures.com / hikingoutdooradventure8@gmail.com  \nLet’s hit the trail together we can’t wait to see you there! \nBook Now
URL:https://hikingoutdooradventures.com/event/hiking-gabiro-club-rusororo-july-05-2025/
CATEGORIES:Hiking
ATTACH;FMTTYPE=image/png:https://hikingoutdooradventures.com/wp-content/uploads/2025/07/file_00000000bbec61f79ea1cf9b79c5fa0b.png
ORGANIZER;CN="Hiking Outdoor Adventure":MAILTO:info@hikingoutdooradventure.com
END:VEVENT
END:VCALENDAR