BEGIN:VCALENDAR
VERSION:2.0
PRODID:-//Hiking Outdoor Adventure - ECPv6.15.20//NONSGML v1.0//EN
CALSCALE:GREGORIAN
METHOD:PUBLISH
X-WR-CALNAME:Hiking Outdoor Adventure
X-ORIGINAL-URL:https://hikingoutdooradventures.com
X-WR-CALDESC:Events for Hiking Outdoor Adventure
REFRESH-INTERVAL;VALUE=DURATION:PT1H
X-Robots-Tag:noindex
X-PUBLISHED-TTL:PT1H
BEGIN:VTIMEZONE
TZID:Africa/Kigali
BEGIN:STANDARD
TZOFFSETFROM:+0200
TZOFFSETTO:+0200
TZNAME:CAT
DTSTART:20240101T000000
END:STANDARD
END:VTIMEZONE
BEGIN:VEVENT
DTSTART;TZID=Africa/Kigali:20250920T073000
DTEND;TZID=Africa/Kigali:20250920T073000
DTSTAMP:20260420T065902
CREATED:20250917T090622Z
LAST-MODIFIED:20250917T090642Z
UID:4641-1758353400-1758353400@hikingoutdooradventures.com
SUMMARY:Saturday\, Sept 20\, 2025/ Karuruma – Mount Jali (Hard Way) – Mount Bweramvura – Karuruma Loop
DESCRIPTION:Karuruma – Mount Jali (Hard Way) – Mount Bweramvura – Karuruma Loop \n✨ A challenging 17KM adventure with stunning views\, fresh air & great company! \n \nDate: Saturday\, Sept 20\, 2025\n⏰ Time: 07:30 AM\nMeeting Point: Parking Harmony Bar & Grill\, Karuruma \nHike Fee: 5\,000 RWF via MoMoPay 2202202\n⚡ Limited spots – Book Now! \n+250 795 296 557\nwww.hikingoutdooradventures.com \nEmail: info@hikingOutdooradventures.com / hikingoutdooradventure8@gmail.com
URL:https://hikingoutdooradventures.com/event/saturday-sept-20-2025-karuruma-mount-jali-hard-way-mount-bweramvura-karuruma-loop/
CATEGORIES:Hiking
ATTACH;FMTTYPE=image/jpeg:https://hikingoutdooradventures.com/wp-content/uploads/2025/09/WhatsApp-Image-2025-09-17-at-10.34.23-AM.jpeg
ORGANIZER;CN="Hiking Outdoor Adventure":MAILTO:info@hikingoutdooradventure.com
END:VEVENT
BEGIN:VEVENT
DTSTART;TZID=Africa/Kigali:20250914T073000
DTEND;TZID=Africa/Kigali:20250914T073000
DTSTAMP:20260420T065902
CREATED:20250910T091832Z
LAST-MODIFIED:20250910T092547Z
UID:4495-1757835000-1757835000@hikingoutdooradventures.com
SUMMARY:Sun\, 14 Sept – Gikoro to Gishengeri Loops (16km)
DESCRIPTION:Weekend Adventure! \nSun\, 14 Sept – Gikoro to Gishengeri Loops (16km) \nMeeting Point: Engen Petrol Station (near Inyange Factory\, Masaka)\n⏰ Time: 07h30 \nGuiding Fee: 5\,000 RWF\nMoMoPay: 2202202 – Hiking Outdoor Adventures \n  \n\n\n\n\n\nEmail: info@hikingOutdooradventures.com\, hikingoutdooradventure8@gmail.com \n\n\n\n\n\n‪Contact: +250 795 296 557‬\nwww.hikingoutdooradventures.com \nBook Now \n✨ Breathtaking views\, fresh air\, and the perfect challenge await you! \n#HikingOutdoorAdventures #RwandaHiking #ExploreRwanda #WeekendHike #TrailAdventure #MountFumbwe #LakeMuhazi #HikingLife #AdventureRwanda #ChallengeYourself
URL:https://hikingoutdooradventures.com/event/sun-14-sept-gikoro-to-gishengeri-loops-16km/
CATEGORIES:Hiking
ATTACH;FMTTYPE=image/jpeg:https://hikingoutdooradventures.com/wp-content/uploads/2025/09/view1.jpg
ORGANIZER;CN="Hiking Outdoor Adventure":MAILTO:info@hikingoutdooradventure.com
END:VEVENT
BEGIN:VEVENT
DTSTART;TZID=Africa/Kigali:20250913T060000
DTEND;TZID=Africa/Kigali:20250913T060000
DTSTAMP:20260420T065902
CREATED:20250903T100244Z
LAST-MODIFIED:20250903T101415Z
UID:4481-1757743200-1757743200@hikingoutdooradventures.com
SUMMARY:Saturday\, 13th September 2025- Scenic Adventure Hike – 14KM Perimeter Fence Trail near Akagera National Park
DESCRIPTION:Hiking Outdoor Adventures\nScenic Adventure Hike – 14KM Perimeter Fence Trail near Akagera National Park ✨ \nSaturday\, 13th September 2025\nMeeting: INYANGE Factory Masaka – 06:00 AM\nTransport: 20K | Guiding: 5K\n☕ Stops at Bashana Coffee Shop & Akagera Rhino Lodge \n       \n⚡ Limited spots – Book now!\nMoMoPay: 2202202\n‪+250 795 296 557‬ | hikingoutdooradventure8@gmail.com \nEmail: info@hikingoutdooradventures.com \nBook Now \n     \n#HikingOutdoorAdventures #ExploreRwanda #Akagera #AdventureAwaits #ScenicTrails #ChallengeYourself #WeekendHikes
URL:https://hikingoutdooradventures.com/event/saturday-13th-september-2025-scenic-adventure-hike-14km-perimeter-fence-trail-near-akagera-national-park/
CATEGORIES:Hiking
ATTACH;FMTTYPE=image/jpeg:https://hikingoutdooradventures.com/wp-content/uploads/2025/09/WhatsApp-Image-2025-09-03-at-11.37.30_765f91d4.jpg
ORGANIZER;CN="Hiking Outdoor Adventure":MAILTO:info@hikingoutdooradventure.com
END:VEVENT
BEGIN:VEVENT
DTSTART;TZID=Africa/Kigali:20250907T083000
DTEND;TZID=Africa/Kigali:20250907T083000
DTSTAMP:20260420T065902
CREATED:20250902T113257Z
LAST-MODIFIED:20250902T113334Z
UID:4475-1757233800-1757233800@hikingoutdooradventures.com
SUMMARY:Sunday\, 07th September 2025 - Mount Gihara Hike
DESCRIPTION:Mount Gihara Hike – Sunday\, 07th September 2025\nParking: Honey In Honey B&G\, Gihara – Ruyenzi\nDeparture: 08:30 AM\n✨ Itinerary: Mount Gihara \n    \nGuiding Fee: 5\,000 RWF\nMoMoPay: 2202202 (Hiking Outdoor Adventures) \nCall/WhatsApp: ‪+250 795 296 557‬\nwww.hikingoutdooradventures.com \nEmail: info@hikingoutdooradventures.com \n➡ Book your spot now and let us take you there!
URL:https://hikingoutdooradventures.com/event/sunday-07th-september-2025-mount-gihara-hike/
CATEGORIES:Hiking
ATTACH;FMTTYPE=image/jpeg:https://hikingoutdooradventures.com/wp-content/uploads/2025/09/WhatsApp-Image-2025-09-02-at-13.14.51_51a59720.jpg
ORGANIZER;CN="Hiking Outdoor Adventure":MAILTO:info@hikingoutdooradventure.com
END:VEVENT
BEGIN:VEVENT
DTSTART;TZID=Africa/Kigali:20250906T073000
DTEND;TZID=Africa/Kigali:20250906T073000
DTSTAMP:20260420T065902
CREATED:20250902T100516Z
LAST-MODIFIED:20250902T101103Z
UID:4462-1757143800-1757143800@hikingoutdooradventures.com
SUMMARY:Sat\, Sept 6 / 12KM Moderate Hike
DESCRIPTION:12KM Moderate Hike\nSat\, Sept 6 | ⏰ 07:30 AM\nHarmony Bar & Grill Parking\, Karuruma \n    \nHike Fee: 5\,000 RWF (MoMoPay 2202202) \n✨ After the hike:\nSwimming Pool Access\nLunch @ Eagle View Golf Kigali (23 KG 565 St)\n15\,000 RWF per person (MoMoPay 2202202) \n⚡ Book Now – Spots Limited! \n    \nEmail: info@hikingoutdooradventures.com \nBook Now \n#HikingOutdoorAdventures #ExploreRwanda #WeekendHikes #ChallengeYourself #OutdoorLife
URL:https://hikingoutdooradventures.com/event/sat-sept-6-12km-moderate-hike/
CATEGORIES:Hiking
ATTACH;FMTTYPE=image/jpeg:https://hikingoutdooradventures.com/wp-content/uploads/2025/09/WhatsApp-Image-2025-09-02-at-11.06.01_e3083d7e.jpg
ORGANIZER;CN="Hiking Outdoor Adventure":MAILTO:info@hikingoutdooradventure.com
END:VEVENT
BEGIN:VEVENT
DTSTART;TZID=Africa/Kigali:20250831T080000
DTEND;TZID=Africa/Kigali:20250831T120000
DTSTAMP:20260420T065903
CREATED:20250825T110818Z
LAST-MODIFIED:20250825T111945Z
UID:4440-1756627200-1756641600@hikingoutdooradventures.com
SUMMARY:12KM Medium Hike at Green Sport Park Gahanga/ August 31\, 2025
DESCRIPTION:This Sunday\, August 31\, 2025\nJoin us for a 12KM Medium Hike at Green Sport Park Gahanga! \n    \nTime: 08:00 AM – 12:00 PM\nFee: 5\,000 RWF (via MoMoPay 2202202)\nMeeting Point: Green Park Gahanga \n‪+250 795 296 557‬\nwww.hikingoutdooradventures.com \n    \nEmail: info@hikingoutdooradventures.com \nBook Now \n#HikingOutdoorAdventures #ExploreRwanda #WeekendHikes #ChallengeYourself #OutdoorLife #TrekkingRwanda
URL:https://hikingoutdooradventures.com/event/12km-medium-hike-at-green-sport-park-gahanga-august-31-2025/
CATEGORIES:Hiking
ATTACH;FMTTYPE=image/jpeg:https://hikingoutdooradventures.com/wp-content/uploads/2025/08/WhatsApp-Image-2025-08-25-at-12.51.39_b360377b.jpg
END:VEVENT
BEGIN:VEVENT
DTSTART;TZID=Africa/Kigali:20250830T083000
DTEND;TZID=Africa/Kigali:20250830T083000
DTSTAMP:20260420T065903
CREATED:20250827T080147Z
LAST-MODIFIED:20250827T080238Z
UID:4455-1756542600-1756542600@hikingoutdooradventures.com
SUMMARY:August 30\, 2025 / MOUNT GIHARA ADVENTURE
DESCRIPTION:MOUNT GIHARA ADVENTURE \nJoin us for another epic hiking challenge up Mount Gihara!\nSaturday\, August 30\, 2025\n⏰ 08:00 AM – Meeting & Parking at Honey In Honey B&G\, Gihara – Ruyenzi\n‍♂ Itinerary: Mount Gihara\nDeparture: 08:30 AM sharp \n   \nGuiding Fee: 5\,000 RWF\nMoMoPay: 2202202 (Hiking Outdoor Adventures) \nCall/WhatsApp: ‪+250 795 296 557‬ to book your spot! \nEmail: hikingoutdooradventure8@gmail.com /  info@hikingOutdooradventures.com \n✨ Come challenge yourself\, enjoy breathtaking views\, and share good vibes with the Hiking Outdoor Adventures team! \nBook Now \n#HikingOutdoorAdventures #ExploreRwanda✨ #MountGihara #WeekendHikes #ChallengeYourself
URL:https://hikingoutdooradventures.com/event/august-30-2025-mount-gihara-adventure/
CATEGORIES:Hiking
ATTACH;FMTTYPE=image/jpeg:https://hikingoutdooradventures.com/wp-content/uploads/2025/08/Gihara.jpg
ORGANIZER;CN="Hiking Outdoor Adventure":MAILTO:info@hikingoutdooradventure.com
END:VEVENT
BEGIN:VEVENT
DTSTART;TZID=Africa/Kigali:20250824T080000
DTEND;TZID=Africa/Kigali:20250824T080000
DTSTAMP:20260420T065903
CREATED:20250819T085511Z
LAST-MODIFIED:20250819T085704Z
UID:4347-1756022400-1756022400@hikingoutdooradventures.com
SUMMARY:24th August 2025 – Rebero 11km Hike
DESCRIPTION:Sunday\, 24th August 2025 – Rebero 11km Hike\nTake on an 11km moderate trail at Rebero — rolling hills\, fresh air\, and scenic views to make your Sunday unforgettable! \n  \n Meeting Point: Eagle View Rebero – 08:00 AM\n 25\,000 RWF via MoMoPay: 2202202\n✅ Guiding fee & lunch included\n❌ Drinks not included \n‪+250 795 296 557‬ \nEmail: info@hikingoutdooradventures.com / hikingoutdooradventures@gmail.com\nwww.hikingoutdooradventures.com \n✨ Book Now! \n \n#HikingOutdoorAdventures #ReberoHike #11kmTrail #ExploreRwanda #SundayAdventure #TrekkingRwanda
URL:https://hikingoutdooradventures.com/event/24th-august-2025-rebero-11km-hike/
CATEGORIES:Hiking
ATTACH;FMTTYPE=image/jpeg:https://hikingoutdooradventures.com/wp-content/uploads/2025/08/h4.jpg
ORGANIZER;CN="Hiking Outdoor Adventure":MAILTO:info@hikingoutdooradventure.com
END:VEVENT
BEGIN:VEVENT
DTSTART;TZID=Africa/Kigali:20250823T053000
DTEND;TZID=Africa/Kigali:20250823T053000
DTSTAMP:20260420T065903
CREATED:20250819T084913Z
LAST-MODIFIED:20250819T084959Z
UID:4343-1755927000-1755927000@hikingoutdooradventures.com
SUMMARY:23rd August 2025/ Nyamurindira Rocks – The Challenge is Coming
DESCRIPTION:Nyamurindira Rocks – The Challenge is Coming! \nRugged cliffs. Wild terrain. Epic views.\nJoin us on 23rd August 2025 for one of Rwanda’s most intense hikes guided by the experts in adventure trekking. \nMeeting Point: Hiking Outdoor Adventures Office\n23 KG 565 Street\, Kigali\nTime: 05h30 AM sharp\n Fee: 35\,000 RWF per person (includes transport & guiding)\n Pay via MoMoPay: 2202202 to Hiking Outdoor Adventures \nWhat to Bring: \nBackpack \n2L of water \nSnacks \nHiking boots \nRaincoat \nLimited spots – Book now \nEmail: info@hikingoutdooradventures.com / hikingoutdooradventures@gmail.com \n‪+250 795 296 557‬\nwww.hikingoutdooradventures.com \n#NyamurindiraRocks #HikingRwanda #HikingOutdoorAdventures #ExploreRwanda\n#ChallengeYourself #BeBoldHikeFar #MountainSpirit #AdventureRwanda
URL:https://hikingoutdooradventures.com/event/23rd-august-2025-nyamurindira-rocks-the-challenge-is-coming/
CATEGORIES:Hiking,Kayaking
ATTACH;FMTTYPE=image/jpeg:https://hikingoutdooradventures.com/wp-content/uploads/2025/08/WhatsApp-Image-2025-08-19-at-08.39.46_d8465a34.jpg
ORGANIZER;CN="Hiking Outdoor Adventure":MAILTO:info@hikingoutdooradventure.com
END:VEVENT
BEGIN:VEVENT
DTSTART;TZID=Africa/Kigali:20250817T073000
DTEND;TZID=Africa/Kigali:20250817T073000
DTSTAMP:20260420T065903
CREATED:20250813T080010Z
LAST-MODIFIED:20250813T080130Z
UID:4090-1755415800-1755415800@hikingoutdooradventures.com
SUMMARY:17th August 2025 – Mount Fumbwe to Lake Muhazi (16km)
DESCRIPTION:Sunday\, 17th August 2025 – Mount Fumbwe to Lake Muhazi (16km) \n   \nExperience an unforgettable 16km journey from the slopes of Mount Fumbwe through stunning hills and valleys\, all the way to Lake Muhazi where we’ll enjoy a well-deserved refreshment break. Our adventure ends in Nyagasambu\, making it the perfect mix of challenge\, scenery\, and relaxation. \n    \nMeeting Point: INYANGE Factory\, Masaka – 07:30 AM\n5\,000 RWF via MoMoPay: 2202202 to Hiking Outdoor Adventures \nEmail: hikingoutdooradventures@gmail.com / info@hikingoutdooradventures.com \nContact: +250 795 296 557\n Website: www.hikingoutdooradventures.com \nBook Now \n#HikingOutdoorAdventures #MountFumbwe #LakeMuhazi #Nyagasambu #16kmTrail #ExploreRwanda #SundayAdventure #TrekkingRwanda
URL:https://hikingoutdooradventures.com/event/17th-august-2025-mount-fumbwe-to-lake-muhazi-16km/
LOCATION:Masaka
ATTACH;FMTTYPE=image/jpeg:https://hikingoutdooradventures.com/wp-content/uploads/2025/08/WhatsApp-Image-2025-08-13-at-8.02.44-AM.jpeg
ORGANIZER;CN="Hiking Outdoor Adventure":MAILTO:info@hikingoutdooradventure.com
END:VEVENT
BEGIN:VEVENT
DTSTART;TZID=Africa/Kigali:20250816T073000
DTEND;TZID=Africa/Kigali:20250816T073000
DTSTAMP:20260420T065903
CREATED:20250812T082728Z
LAST-MODIFIED:20250812T082801Z
UID:4080-1755329400-1755329400@hikingoutdooradventures.com
SUMMARY:16th AUGUST 2025 NEW TRAIL – GIKORO TO GISHENGERI LOOP SATURDAY
DESCRIPTION:Join us for a stunning 15 km loop trail through beautiful valleys and hills. \nMeeting Point: Inyange Factory\, near Rusororo – 07:30 AM\nWhat to Bring: Small backpack with snacks\, water\, and a raincoat (just in case) \n  \n Fee: 5\,000 RWF per person \nPay via MoMoPay 2202202 to Hiking Outdoor Adventures\nContact: +250 795 296 557\nWebsite: www.hikingoutdooradventures.com\nEmail: info@hikingoutdooradventures.com / hikingoutdooradventures@gmail.com \nBook Now \n  \n#HikingOutdoorAdventures #GikoroGishengeriLoop #ExploreRwanda #HikingRwanda #OutdoorLife #ChallengeYourself
URL:https://hikingoutdooradventures.com/event/16th-august-2025-new-trail-gikoro-to-gishengeri-loop-saturday/
CATEGORIES:Trail
ATTACH;FMTTYPE=image/jpeg:https://hikingoutdooradventures.com/wp-content/uploads/2025/08/fe268272-a95b-431c-b7ec-a446018d49d7.jpeg
ORGANIZER;CN="Hiking Outdoor Adventure":MAILTO:info@hikingoutdooradventure.com
END:VEVENT
BEGIN:VEVENT
DTSTART;TZID=Africa/Kigali:20250810T073000
DTEND;TZID=Africa/Kigali:20250810T073000
DTSTAMP:20260420T065903
CREATED:20250723T084019Z
LAST-MODIFIED:20250723T084120Z
UID:4053-1754811000-1754811000@hikingoutdooradventures.com
SUMMARY:10th August 2025 - Hike Mount Bumbogo
DESCRIPTION:Explore the beauty of Bumbogo on a 14 km moderate trail — perfect for nature lovers and adventure seekers! \n   \nLocation: Mount Bumbogo\nParking: Birembo Ishema Garden\nAssembly: 07:30 AM\n‍♂ Departure: 08:00 AM \nGuiding Fee: 5\,000 RWF\nPay via MoMoPay: 2202202 (Hiking Outdoor Adventures) \nCall/WhatsApp: ‪+250 795 296 557‬\nLet’s hit the trail and make memories in the hills of Bumbogo! \n \nEmail: info@hikingOutdooradventures.com / hikingoutdooradventure8@gmail.com \nBook Now
URL:https://hikingoutdooradventures.com/event/10th-august-2025-hike-mount-bumbogo/
CATEGORIES:Hiking
ATTACH;FMTTYPE=image/jpeg:https://hikingoutdooradventures.com/wp-content/uploads/2025/07/WhatsApp-Image-2025-07-23-at-09.51.37_f055ce3c.jpg
END:VEVENT
BEGIN:VEVENT
DTSTART;TZID=Africa/Kigali:20250809T073000
DTEND;TZID=Africa/Kigali:20250809T073000
DTSTAMP:20260420T065903
CREATED:20250723T084728Z
LAST-MODIFIED:20250723T084854Z
UID:4064-1754724600-1754724600@hikingoutdooradventures.com
SUMMARY:9th August 2025 - Hike Mount Fumbwe to Muhazi Loops
DESCRIPTION:Mount Fumbwe to Muhazi Loops\nDate: Saturday\, 09 August 2025\nMeeting Point / Start & End: Kwa Kabarisa Parking\, Nyagasambu\nAssembly Time: 07:30 AM\n‍♂ Departure: 08:00 AM sharp\nDistance: 16 km moderate trail\nGuiding Fee: 5\,000 RWF\nPay via MoMoPay: 2202202 (Hiking Outdoor Adventures) \nCall/WhatsApp: ‪+250 795 296 557‬ \nEmail: info@hikingOutdooradventures.com / hikingoutdooradventure8@gmail.com \n   \nExplore the scenic beauty of Mount Fumbwe and the tranquil shores of Lake Muhazi in this invigorating 16 km loop. A perfect blend of challenge\, nature\, and adventure awaits! \nBook Now \n \n#HikingOutdoorAdventures #FumbweHike #MuhaziLoops #AdventureRwanda #TrekkingRwanda #ExploreRwanda #ChallengeYourself #HikingRwanda #WeekendAdventure #VisitRwanda
URL:https://hikingoutdooradventures.com/event/9th-august-2025-hike-mount-fumbwe-to-muhazi-loops/
CATEGORIES:Hiking
ATTACH;FMTTYPE=image/jpeg:https://hikingoutdooradventures.com/wp-content/uploads/2025/07/WhatsApp-Image-2025-07-23-at-10.00.15_3eed71f4.jpg
ORGANIZER;CN="Hiking Outdoor Adventure":MAILTO:info@hikingoutdooradventure.com
END:VEVENT
BEGIN:VEVENT
DTSTART;TZID=Africa/Kigali:20250808T050000
DTEND;TZID=Africa/Kigali:20250808T050000
DTSTAMP:20260420T065903
CREATED:20250806T083103Z
LAST-MODIFIED:20250806T083741Z
UID:4071-1754629200-1754629200@hikingoutdooradventures.com
SUMMARY:08th August 2025 - NYUNGWE ZIPLINE ADVENTURE
DESCRIPTION:Fly 1\,000 meters above the stunning Nyungwe Forest\nTouch down near the famous canopy walkway — adrenaline meets nature! \n    \nStart/End: Lando Hotel Parking\, Remera\nDeparture: 05:00 AM sharp\n65\,000 RWF (includes transport\, zipline\, canopy walkway & park entry)\nMoMoPay: 2202202\n‪Call: +250 795 296 557‬\nwebsite: hikingoutdooradventures.com \nEmail: hikingoutdooradventure8@gmail.com / info@hikingOutdooradventures.com \nBook Now \n✨ Book now & soar above the wild!\n#ZiplineAdventure #CanopyWalk #ExploreRwanda #AdventureAwaits #IntoTheWild #NyungweForest #HikingOutdoorAdventures
URL:https://hikingoutdooradventures.com/event/08th-august-2025-nyungwe-zipline-adventure/
CATEGORIES:Zipline
ATTACH;FMTTYPE=image/jpeg:https://hikingoutdooradventures.com/wp-content/uploads/2025/08/WhatsApp-Image-2025-08-06-at-10.23.53_fb224051.jpg
ORGANIZER;CN="Hiking Outdoor Adventure":MAILTO:info@hikingoutdooradventure.com
END:VEVENT
BEGIN:VEVENT
DTSTART;TZID=Africa/Kigali:20250803T080000
DTEND;TZID=Africa/Kigali:20250803T080000
DTSTAMP:20260420T065903
CREATED:20250717T083418Z
LAST-MODIFIED:20250717T083943Z
UID:4035-1754208000-1754208000@hikingoutdooradventures.com
SUMMARY:3rd August 2025 / Kanyinya – Jali Trek
DESCRIPTION:Join us for a scenic and energizing trek from Kanyinya to Mount Jali\, a perfect weekend adventure! \n \nAssembly Point: Amakuza Resort Hotel Bar & Grill\nParking Available: Amakuza Resort\nArrival Time: 08:00 AM\n‍♂ Departure: 08:30 AM sharp \nItinerary: Kanyinya – Mount Jali\nFee: 5\,000 RWF (Guided hike included) \nBook Now via MoMoPay: 2202202\nContact: ‪+250 795 296 557‬\nWebsite: www.hikingoutdooradventures.com \nEmail: info@hikingOutdooradventures.com/ hikingoutdooradventure8@gmail.com \nBook now \n      \nLet’s hike together and conquer the trails!\n#HikingOutdoorAdventures #JaliHike #KanyinyaToJali #TrekkingRwanda #VisitRwanda #OutdoorLife
URL:https://hikingoutdooradventures.com/event/3rd-august-2025-kanyinya-jali-trek/
CATEGORIES:Trekking
ATTACH;FMTTYPE=image/jpeg:https://hikingoutdooradventures.com/wp-content/uploads/2025/07/WhatsApp-Image-2025-07-17-at-10.18.39_098cf8f0.jpg
ORGANIZER;CN="Hiking Outdoor Adventure":MAILTO:info@hikingoutdooradventure.com
END:VEVENT
BEGIN:VEVENT
DTSTART;TZID=Africa/Kigali:20250802T050000
DTEND;TZID=Africa/Kigali:20250802T050000
DTSTAMP:20260420T065903
CREATED:20250717T080637Z
LAST-MODIFIED:20250717T083628Z
UID:4027-1754110800-1754110800@hikingoutdooradventures.com
SUMMARY:2nd August 2025/ Mount Huye Trek!
DESCRIPTION:Hiking Outdoor Adventures Presents: Mount Huye Trek! \nReady for your next adrenaline-pumping adventure? Join us for the Mount Huye Trek — a thrilling 14 km ascent to the summit at 2\,300 meters above sea level! \n    \nDate: Saturday\, 02 August 2025\nMeeting Point: Chez Lando Hotel\, Remera – 05:00 AM sharp\n Fee: 40\,000 RWF\n(Includes transport\, guided trek & lunch) \nPush your limits\, embrace the climb\, and conquer Huye with our expert team! \n \n  MoMoPay 2202202\n ‪+250 795 296 557‬\nwww.hikingoutdooradventures.com \nEmail: hikingoutdooradventure8@gmail.com / info@hikingOutdooradventures.com \nBook Now \n#MountHuyeTrek #HikingOutdoorAdventures #TrekRwanda #AdventureAwaits #ChallengeYourself #VisitRwanda #MountainAdventure
URL:https://hikingoutdooradventures.com/event/02nd-august-2025-mount-huye-trek/
CATEGORIES:Trekking
ATTACH;FMTTYPE=image/jpeg:https://hikingoutdooradventures.com/wp-content/uploads/2025/07/WhatsApp-Image-2025-07-17-at-09.26.55_0ec5d359.jpg
ORGANIZER;CN="Hiking Outdoor Adventure":MAILTO:info@hikingoutdooradventure.com
END:VEVENT
BEGIN:VEVENT
DTSTART;TZID=Africa/Kigali:20250801T073000
DTEND;TZID=Africa/Kigali:20250801T170000
DTSTAMP:20260420T065903
CREATED:20250721T095635Z
LAST-MODIFIED:20250721T095635Z
UID:4045-1754033400-1754067600@hikingoutdooradventures.com
SUMMARY:1st August 2025/ Hike through scenic landscapes
DESCRIPTION:Hiking Outdoor Adventures\nIn partnership with Camp & Explorer  \n Date: 01st August 2025\n Time: 07:30 AM – 5:00 PM\n Meeting Point / Start / End: Camp & Explorer – Kigali Rd NR3 \nJoin us for an unforgettable outdoor adventure!\nHike through scenic landscapes\, embrace the wild\, and create memories that last. \n    \n 15 km Moderate Hike\n Lunch Included: Brochettes & Chips\n Guided by Experienced Professionals \n  \n Fee: 15\,000 RWF per person\n MoMoPay: 2202202 (Hiking Outdoor Adventures) \nCall: +250 795 296 557 \nEmail: info@hikingOutdooradventures.com/ hikingoutdooradventure8@gmail.com \n✨ Adventure is calling. Are you ready to explore? \nBook Now
URL:https://hikingoutdooradventures.com/event/1st-august-2025-hike-through-scenic-landscapes/
CATEGORIES:Hiking
ATTACH;FMTTYPE=image/jpeg:https://hikingoutdooradventures.com/wp-content/uploads/2025/07/WhatsApp-Image-2025-07-21-at-11.33.44_75e64a58.jpg
ORGANIZER;CN="Hiking Outdoor Adventure":MAILTO:info@hikingoutdooradventure.com
END:VEVENT
BEGIN:VEVENT
DTSTART;TZID=Africa/Kigali:20250727T060000
DTEND;TZID=Africa/Kigali:20250727T060000
DTSTAMP:20260420T065903
CREATED:20250708T101623Z
LAST-MODIFIED:20250708T102214Z
UID:4013-1753596000-1753596000@hikingoutdooradventures.com
SUMMARY:27th July 2025 / Conquer Nyamurindira Rocks
DESCRIPTION:✨ Hiking Outdoor Adventures\n27th July 2025\nConquer Nyamurindira Rocks \nJoin us for a wild day out! Take on a 14 km hike through the stunning landscapes of Nyamurindira Rocks. From bold cliffs to panoramic views\, this is your chance to explore one of Rwanda’s hidden treasures. \n       \n \nBe bold. Have fun. Let’s go hiking! \nOrganized by: Hiking Outdoor Adventures\n‪+250 795 296 557‬\nMoMoPay: 2202202 (Hiking Outdoor Adventures)\nFee: 25\,000 RWF\nMeeting Point: Chez Lando Hotel\, Remera\nDeparture: 06:00 AM sharp \nEmail: info@hikingoutdooradventures.com / hikingoutdooradventure8@gmail.com \nGet inspired View more about our experience conquering Nyamurindira Rocks \nBook Now
URL:https://hikingoutdooradventures.com/event/27th-july-2025-conquer-nyamurindira-rocks/
CATEGORIES:Hiking
ATTACH;FMTTYPE=image/jpeg:https://hikingoutdooradventures.com/wp-content/uploads/2025/07/WhatsApp-Image-2025-07-08-at-12.01.07_3666b739.jpg
ORGANIZER;CN="Hiking Outdoor Adventure":MAILTO:info@hikingoutdooradventure.com
END:VEVENT
BEGIN:VEVENT
DTSTART;TZID=Africa/Kigali:20250719T060000
DTEND;TZID=Africa/Kigali:20250719T060000
DTSTAMP:20260420T065903
CREATED:20250708T085913Z
LAST-MODIFIED:20250708T090507Z
UID:4005-1752904800-1752904800@hikingoutdooradventures.com
SUMMARY:19th July 2025 / Kayak 5 km across Lake Muhazi
DESCRIPTION:KAYAK & HIKE \nKayak 5 km across Lake Muhazi\nHike 12 km through wild\, rugged terrain \n19th July 2025\nMeeting Point: Chez Lando Hotel\, Remera – 06:00 AM\nFee: 60\,000 RWF per person\nMoMoPay Code: 2202202 (Hiking Outdoor Adventures) \nIncluded: \n✅ Transport \n✅ Kayaks \n✅ Professional guides \n✅ Lunch (Brochettes & Chips) \n✅ Refreshment drinks during the challenge \n What to Bring For kayaking: \n✅ Relaxed clothes (expect to get wet) \n✅ Sandals \n What to Bring For hiking: \n✅ Light trousers \n✅ T-shirt \n✅ Small backpack with water\, snacks\, and a raincoat \n✅ Good hiking boots \nAlso bring: \n✅ Spare clothes for after the challenge \n⚠ Limited spots available – advance booking required!\nCall or WhatsApp: ‪+250 795 296 557‬ \nEmail: info@hikingoutdooradventures.com / hikingoutdooradventure8@gmail.com \nBook Now \nhttps://hikingoutdooradventures.com/wp-content/uploads/2025/07/WhatsApp-Video-2025-07-08-at-10.58.29_9ab5e2eb.mp4
URL:https://hikingoutdooradventures.com/event/19th-july-2025-kayak-5-km-across-lake-muhazi/
CATEGORIES:Hiking,Kayaking
ATTACH;FMTTYPE=image/jpeg:https://hikingoutdooradventures.com/wp-content/uploads/2025/07/WhatsApp-Image-2025-07-08-at-10.45.03_1118b423.jpg
ORGANIZER;CN="Hiking Outdoor Adventure":MAILTO:info@hikingoutdooradventure.com
END:VEVENT
BEGIN:VEVENT
DTSTART;TZID=Africa/Kigali:20250712T080000
DTEND;TZID=Africa/Kigali:20250712T120000
DTSTAMP:20260420T065903
CREATED:20250705T094203Z
LAST-MODIFIED:20250705T094527Z
UID:3997-1752307200-1752321600@hikingoutdooradventures.com
SUMMARY:12th July 2025 - Scenic Hike at Green Sport Park\, Gahanga
DESCRIPTION:Join Hiking Outdoor Adventures for a Scenic Hike at Green Sport Park\, Gahanga✨ \nDate: Saturday\, 12th July 2025\n⏰ Meeting Time: 08:00 AM\nStarting Point: Green Sport Park\, Gahanga\n‍♂ Distance: 12 km\nDifficulty: Easy and Perfect for all fitness levels \nGet ready to enjoy a refreshing 12 km hike through the serene and picturesque landscapes of Gahanga. Whether you’re a seasoned hiker or a beginner\, this easy trail offers the perfect opportunity to reconnect with nature\, meet like-minded adventurers\, and experience the joy of the outdoors in good company. \n \n✨ Come for the views\, stay for the vibes — and make unforgettable memories with the Hiking Outdoor Adventures Club! \n \n✅ Spots are limited  invite your friends and book early!\nFee: 5\,000 RWF\nMoMo Pay: 2202202 to Hiking Outdoor Adventures \nInfo & Booking: ‪+250 795 296 557‬\nEmail: info@hikingoutdooradventures.com / hikingoutdooradventure8@gmail.com\n✅ BOOK NOW
URL:https://hikingoutdooradventures.com/event/12th-july-2025-scenic-hike-at-green-sport-park-gahanga/
CATEGORIES:Hiking
ATTACH;FMTTYPE=image/jpeg:https://hikingoutdooradventures.com/wp-content/uploads/2025/07/WhatsApp-Image-2025-07-05-at-11.11.21_bd48a8f4.jpg
ORGANIZER;CN="Hiking Outdoor Adventure":MAILTO:info@hikingoutdooradventure.com
END:VEVENT
BEGIN:VEVENT
DTSTART;VALUE=DATE:20250706
DTEND;VALUE=DATE:20250707
DTSTAMP:20260420T065903
CREATED:20250630T091443Z
LAST-MODIFIED:20250630T092426Z
UID:3948-1751760000-1751846399@hikingoutdooradventures.com
SUMMARY:06th July 2025 – Conquer Nyamurindira Rocks
DESCRIPTION:Step into the wild heart of Rwanda and challenge yourself on a 13km trek through the raw\, untamed beauty of Nyamurindira Rocks. This isn’t just a hike — it’s a battle with boulders\, grit\, and gravity. \nAscend rugged slopes\, navigate ancient rock formations\, and test your endurance against nature’s tough terrain. Whether you’re chasing adrenaline or chasing limits\, this is where adventurers are made. \nBe bold. Be relentless. Be part of it. \nMomo Pay: 2202202 (Hiking Outdoor Adventures) \nCall us: +250 795 296 557 \nEmail us: info@hikingoutdooradventures.com / hikingoutdooradventure8@gmail.com  \nBook Now \nView More Events
URL:https://hikingoutdooradventures.com/event/06th-july-2025-conquer-nyamurindira-rocks/
CATEGORIES:Hiking
ATTACH;FMTTYPE=image/jpeg:https://hikingoutdooradventures.com/wp-content/uploads/2025/06/6th-july-event.jpg
END:VEVENT
BEGIN:VEVENT
DTSTART;TZID=Africa/Kigali:20250705T080000
DTEND;TZID=Africa/Kigali:20250705T120000
DTSTAMP:20260420T065903
CREATED:20250701T130347Z
LAST-MODIFIED:20250701T131637Z
UID:3987-1751702400-1751716800@hikingoutdooradventures.com
SUMMARY:5th July 2025 Hiking Gabiro Club\, Rusororo
DESCRIPTION:Join us for an unforgettable HIKING ADVENTURE! \nWhen: Saturday\, July 05\, 2025\nTime: 8:00 AM – 12:00 PM\nWhere: Gabiro Club\, Rusororo \nWe’ll be exploring a scenic 11 km moderate trail — perfect for nature lovers and hiking enthusiasts. This is your chance to reconnect with the outdoors\, enjoy breathtaking views\, and bond with fellow hikers. \nFee: 5\,000 RWF\nMoMo Pay: 2202202 \nReserve your spot now!\nCall or WhatsApp: ‪+250 795 296 557‬ \nEmail us: info@hikingoutdooradventures.com / hikingoutdooradventure8@gmail.com  \nLet’s hit the trail together we can’t wait to see you there! \nBook Now
URL:https://hikingoutdooradventures.com/event/hiking-gabiro-club-rusororo-july-05-2025/
CATEGORIES:Hiking
ATTACH;FMTTYPE=image/png:https://hikingoutdooradventures.com/wp-content/uploads/2025/07/file_00000000bbec61f79ea1cf9b79c5fa0b.png
ORGANIZER;CN="Hiking Outdoor Adventure":MAILTO:info@hikingoutdooradventure.com
END:VEVENT
END:VCALENDAR