BEGIN:VCALENDAR
VERSION:2.0
PRODID:-//Hiking Outdoor Adventure - ECPv6.15.20//NONSGML v1.0//EN
CALSCALE:GREGORIAN
METHOD:PUBLISH
X-WR-CALNAME:Hiking Outdoor Adventure
X-ORIGINAL-URL:https://hikingoutdooradventures.com
X-WR-CALDESC:Events for Hiking Outdoor Adventure
REFRESH-INTERVAL;VALUE=DURATION:PT1H
X-Robots-Tag:noindex
X-PUBLISHED-TTL:PT1H
BEGIN:VTIMEZONE
TZID:Africa/Kigali
BEGIN:STANDARD
TZOFFSETFROM:+0200
TZOFFSETTO:+0200
TZNAME:CAT
DTSTART:20250101T000000
END:STANDARD
END:VTIMEZONE
BEGIN:VEVENT
DTSTART;TZID=Africa/Kigali:20260321T080000
DTEND;TZID=Africa/Kigali:20260321T080000
DTSTAMP:20260420T085404
CREATED:20260317T193059Z
LAST-MODIFIED:20260317T193922Z
UID:6030-1774080000-1774080000@hikingoutdooradventures.com
SUMMARY:21st March 2026 / GREEN PARK GAHANGA
DESCRIPTION:GREEN PARK GAHANGA\nStep into nature and discover one of Kigali’s most scenic green landscapes.\nA curated hiking experience designed for adventure\, connection\, and well-being.\n🥾 12 KM • MODERATE HIKE\n📅 Saturday\, 21 March 2026\n🕗 Hiking Time: 08:00 AM – 12:30 PM\n📍 Meeting Point:\nGreen Park Gahanga – 07:45 AM\n💳 Booking: *669*2218#\n📞 Call / WhatsApp: +250 795 296 557\n🌐 Website: www.hikingoutdooradventures.com⁠\n💰 Fee: 5\,000 RWF\n🎓 Special Offer:\nFREE for students in Rwanda 🇷🇼\n(Valid student ID required)\n✨ Why join HOA360?\n* Professional and experienced guides\n* Safe\, well-organized outdoor experience\n* International and welcoming community\n* A perfect balance of challenge and enjoyment\nHOA360\nAdventure • Endurance • Excellence \n\n\n\n\n\nEmail: info@hikingOutdooradventures.com / hikingoutdooradventure8@gmail.com \n\n\n\n\n\n\n\n\n\n\nBook Now
URL:https://hikingoutdooradventures.com/event/21st-march-2026-green-park-gahanga/
CATEGORIES:Hiking
ATTACH;FMTTYPE=image/jpeg:https://hikingoutdooradventures.com/wp-content/uploads/2026/03/hiking.jpeg
ORGANIZER;CN="Hiking Outdoor Adventure":MAILTO:info@hikingoutdooradventure.com
END:VEVENT
BEGIN:VEVENT
DTSTART;TZID=Africa/Kigali:20260322T073000
DTEND;TZID=Africa/Kigali:20260322T073000
DTSTAMP:20260420T085404
CREATED:20260317T192356Z
LAST-MODIFIED:20260317T192703Z
UID:6022-1774164600-1774164600@hikingoutdooradventures.com
SUMMARY:22nd March 2026 / BUSANZA HIKE 
DESCRIPTION:BUSANZA HIKE\n14 KM • MODERATE LEVEL\n📅 Sunday\, 22 March 2026\n📍 Sunset Village\, Kanombe\n🕢 Meeting: 07:45 AM\n🚶‍♂️ Departure: 08:00 AM\nStep into a scenic 14 km journey designed to challenge your endurance while immersing you in nature.\nThis is more than a hike it’s an experience of discipline\, energy\, and exploration.\n👣 Led by professional & experienced guides\n🛡️ Safe\, structured & well-organized\n🎒 Bring: Hiking shoes\, water\, snacks & raincoat\n💳 Fee: 5\,000 RWF\nPayment via Sinc.events\nDial *669*2218#\n📞 +250 795 296 557\n🌐 www.hikingoutdooradventures.com⁠\n🏔️ HOA360 – Official Member of RTTA \n\n\n\n\n\nEmail: info@hikingOutdooradventures.com / hikingoutdooradventure8@gmail.com \nBook Now \n\n\n\n\n\nStep into the adventure. Explore beyond.\n#HOA360 #HikingRwanda #ExploreRwanda #OutdoorAdventure #TrailLife #VisitRwanda
URL:https://hikingoutdooradventures.com/event/22nd-march-2026-busanza-hike/
CATEGORIES:Hiking
ATTACH;FMTTYPE=image/jpeg:https://hikingoutdooradventures.com/wp-content/uploads/2026/03/busanzahike.jpeg
ORGANIZER;CN="Hiking Outdoor Adventure":MAILTO:info@hikingoutdooradventure.com
END:VEVENT
BEGIN:VEVENT
DTSTART;TZID=Africa/Kigali:20260411T073000
DTEND;TZID=Africa/Kigali:20260411T073000
DTSTAMP:20260420T085404
CREATED:20260408T080235Z
LAST-MODIFIED:20260408T080246Z
UID:6039-1775892600-1775892600@hikingoutdooradventures.com
SUMMARY:11th April 2026 / BUMBOGO HILLS ADVENTURE
DESCRIPTION:BUMBOGO HILLS ADVENTURE 🇷🇼✨️♥️\n16KM • NEW TRAIL\nSaturday\, 11th April 2026\n🕢 07:30 AM\n📍 Meeting Point:\nMr Chips\, KG 12 Ave\, Kigali \n🔥 PUSH YOUR LIMITS\nConquer the hills.\nFace the challenge.\n🌄 Experience one of Kigali’s most scenic and demanding trails.\nExpect steep climbs\, wild terrain\, and pure endurance.\n💰 FEE: 5\,000 RWF\n👉 Pay on arrival (Cash or Mobile Money) \n🎒 WHAT TO BRING\n* Small backpack\n* Water\n* Snacks\n* Raincoat\n📲 BOOK YOUR SPOT \nSinc.events: *669*2218#\n📞 CONTACT\n+250 795 296 557 \nBook Now\n🌐 www.hikingoutdooradventures.com⁠ \ninfo@hikingoutdooradventures.com⁠ / hikingoutdooradventure8@gmail.com \n⚡ ONE MORNING. ONE TRAIL. ONE CHALLENGE.\nAre you ready to conquer Bumbogo Hills?
URL:https://hikingoutdooradventures.com/event/11th-april-2026-bumbogo-hills-adventure/
CATEGORIES:Hiking
ATTACH;FMTTYPE=image/jpeg:https://hikingoutdooradventures.com/wp-content/uploads/2026/04/WhatsApp-Image-2026-04-08-at-9.10.15-AM.jpeg
END:VEVENT
BEGIN:VEVENT
DTSTART;TZID=Africa/Kigali:20260412T080000
DTEND;TZID=Africa/Kigali:20260412T080000
DTSTAMP:20260420T085404
CREATED:20260408T080629Z
LAST-MODIFIED:20260408T080644Z
UID:6042-1775980800-1775980800@hikingoutdooradventures.com
SUMMARY:12 April 2026 / REBERO TRAIL
DESCRIPTION:REBERO TRAIL 🇷🇼✨️♥️\nNew Trail. Bigger Challenge.\n15 KM • Moderate\nChallenge your limits. Discover yourself.\n🗓️ Sunday\, 12 April 2026\n📍 Meeting Point: Stella VIP Kicukiro\, Nyanza – Kigali\n⏰ Start Time: 08:00 AM\n🥾 THE EXPERIENCE\nStep into one of Kigali’s most scenic trails.\nA 15KM adventure designed to build endurance\, test your mindset\, and reward you with breathtaking views.\nThis is more than a hike…\n👉 It’s a challenge.\n👉 It’s discipline.\n👉 It’s growth.\n🎒 WHAT TO BRING\n* Small backpack\n* Water\n* Snacks\n* Raincoat\n💰 Participation Fee\n5\,000 RWF\n📲 Book Now: *669*2218# \nBook Now \n🌐 www.hikingoutdooradventures.com⁠ \ninfo@hikingoutdooradventures.com⁠ / hikingoutdooradventure8@gmail.com \n⚠️ IMPORTANT\n✔️ Good fitness level required\n✔️ Come ready to push your limits\n✔️ Limited spots available\n🔥 HOA360\n360° of Nature. Challenge. Fun.\nOfficial Member of RTTA \n 
URL:https://hikingoutdooradventures.com/event/12-april-2026-rebero-trail/
CATEGORIES:Hiking
ATTACH;FMTTYPE=image/jpeg:https://hikingoutdooradventures.com/wp-content/uploads/2026/04/WhatsApp-Image-2026-04-08-at-9.10.58-AM.jpeg
END:VEVENT
END:VCALENDAR