BEGIN:VCALENDAR
VERSION:2.0
PRODID:-//Hiking Outdoor Adventure - ECPv6.15.20//NONSGML v1.0//EN
CALSCALE:GREGORIAN
METHOD:PUBLISH
X-WR-CALNAME:Hiking Outdoor Adventure
X-ORIGINAL-URL:https://hikingoutdooradventures.com
X-WR-CALDESC:Events for Hiking Outdoor Adventure
REFRESH-INTERVAL;VALUE=DURATION:PT1H
X-Robots-Tag:noindex
X-PUBLISHED-TTL:PT1H
BEGIN:VTIMEZONE
TZID:Africa/Kigali
BEGIN:STANDARD
TZOFFSETFROM:+0200
TZOFFSETTO:+0200
TZNAME:CAT
DTSTART:20250101T000000
END:STANDARD
END:VTIMEZONE
BEGIN:VEVENT
DTSTART;TZID=Africa/Kigali:20260307T050000
DTEND;TZID=Africa/Kigali:20260308T170000
DTSTAMP:20260420T030402
CREATED:20260303T134248Z
LAST-MODIFIED:20260303T134254Z
UID:5977-1772859600-1772989200@hikingoutdooradventures.com
SUMMARY:07–08 March 2026 / MOUNT HUYE EXPEDITION
DESCRIPTION:🏔️ MOUNT HUYE EXPEDITION 🇷🇼\n📅 07–08 March 2026\n🥾 2 Days | 40KM Mountain Challenge\nA demanding highland trail built for endurance\, discipline & true adventure.\n🎒 Self-Supported\nCarry your own backpack\, food & camping gear.\n💰 40\,000 RWF (Transport Included)\n📍 Meeting Point: Gisimenti Rubis Petrol Station – 05h00 AM\n📲 Pay via Sinc.events or dial *669*2218#\n📞 Contact: +250 795 296 557\n🌐 www.hikingoutdooradventures.com⁠ \nEmail: info@hikingOutdooradventures.com / hikingoutdooradventure8@gmail.com \nBook Now \n  \nOnly the committed.\nHOA 360 – 360° of Nature\, Challenge & Fun.
URL:https://hikingoutdooradventures.com/event/07-08-march-2026-mount-huye-expedition/
CATEGORIES:Hiking
ATTACH;FMTTYPE=image/jpeg:https://hikingoutdooradventures.com/wp-content/uploads/2026/03/Mounthuyr.jpeg
ORGANIZER;CN="Hiking Outdoor Adventure":MAILTO:info@hikingoutdooradventure.com
END:VEVENT
END:VCALENDAR