BEGIN:VCALENDAR
VERSION:2.0
PRODID:-//Hiking Outdoor Adventure - ECPv6.15.20//NONSGML v1.0//EN
CALSCALE:GREGORIAN
METHOD:PUBLISH
X-ORIGINAL-URL:https://hikingoutdooradventures.com
X-WR-CALDESC:Events for Hiking Outdoor Adventure
REFRESH-INTERVAL;VALUE=DURATION:PT1H
X-Robots-Tag:noindex
X-PUBLISHED-TTL:PT1H
BEGIN:VTIMEZONE
TZID:Africa/Kigali
BEGIN:STANDARD
TZOFFSETFROM:+0200
TZOFFSETTO:+0200
TZNAME:CAT
DTSTART:20250101T000000
END:STANDARD
END:VTIMEZONE
BEGIN:VEVENT
DTSTART;TZID=Africa/Kigali:20260301T073000
DTEND;TZID=Africa/Kigali:20260301T073000
DTSTAMP:20260420T013136
CREATED:20260226T072839Z
LAST-MODIFIED:20260226T072852Z
UID:5501-1772350200-1772350200@hikingoutdooradventures.com
SUMMARY:01 March 2026 /GIKORO → GISHENGERI 15 KM | LOOP TRAIL
DESCRIPTION:HIKING OUTDOOR ADVENTURES 360° of Nature\, Challenge & Fun\nGIKORO → GISHENGERI LOOP\nSunday\, 01 March 2026\n15 KM | LOOP TRAIL \nEasy Scenic Trail Experience\nA well-structured and accessible hike across beautiful rolling hills and valleys perfect for beginners and those building endurance. \nEnjoy nature at a steady and comfortable pace under the professional guidance of Hiking Outdoor Adventures 360 (HOA 360). Safe • Structured • Scenic • Enjoyable \n📲 Book via Sinc.events\nDial: *669*2218#\nFee: 5\,000 RWF per person \nBook Now  \n📍 MEETING POINT\nEngen Petrol Station\nNear Inyange Factory\, Masaka\n🕢 07:30 AM\n📞 +250 795 296 557\n🌍 www.hikingoutdooradventures.com⁠ \n\n\nEmail: hikingoutdooradventure8@gmail.com/ info@hikingOutdooradventures.com
URL:https://hikingoutdooradventures.com/event/01-march-2026-gikoro-%e2%86%92-gishengeri-15-km-loop-trail/
CATEGORIES:Trail
ATTACH;FMTTYPE=image/jpeg:https://hikingoutdooradventures.com/wp-content/uploads/2026/02/15loop.jpeg
ORGANIZER;CN="Hiking Outdoor Adventure":MAILTO:info@hikingoutdooradventure.com
END:VEVENT
END:VCALENDAR