BEGIN:VCALENDAR
VERSION:2.0
PRODID:-//Hiking Outdoor Adventure - ECPv6.15.20//NONSGML v1.0//EN
CALSCALE:GREGORIAN
METHOD:PUBLISH
X-WR-CALNAME:Hiking Outdoor Adventure
X-ORIGINAL-URL:https://hikingoutdooradventures.com
X-WR-CALDESC:Events for Hiking Outdoor Adventure
REFRESH-INTERVAL;VALUE=DURATION:PT1H
X-Robots-Tag:noindex
X-PUBLISHED-TTL:PT1H
BEGIN:VTIMEZONE
TZID:Africa/Kigali
BEGIN:STANDARD
TZOFFSETFROM:+0200
TZOFFSETTO:+0200
TZNAME:CAT
DTSTART:20250101T000000
END:STANDARD
END:VTIMEZONE
BEGIN:VEVENT
DTSTART;TZID=Africa/Kigali:20260124T060000
DTEND;TZID=Africa/Kigali:20260124T060000
DTSTAMP:20260420T051112
CREATED:20260122T085511Z
LAST-MODIFIED:20260122T085547Z
UID:5080-1769234400-1769234400@hikingoutdooradventures.com
SUMMARY:NYAMURINDIRA ROCKS CHALLENGE / SATURDAY 24TH JANUARY 2026
DESCRIPTION:GET READY FOR A DAY OF PURE ADVENTURE! 🔥\nSATURDAY 24TH JANUARY 2026\n🪨 NYAMURINDIRA ROCKS CHALLENGE 🪨 \nJoin us for a 13 km intense trek across rugged rocky trails\, steep climbs\, and breathtaking views.\nThis is not a simple walk it’s a true test of endurance\, strength\, and mindset. \n⚡ ARE YOU READY TO CONQUER THE CHALLENGE?\n📍 Meeting Point: Engen Petrol Station (near Inyange Factory)\, Masaka\n⏰ Departure: 06h00 AM\n💰 Fee: 15\,000 RWF \n📲 Bookings via Sinc.events: *669*2218#\nOrganized by: Hiking Outdoor Adventures 360 (HOA 360)\n📞 +250 795 296 557 \nEmail: info@hikingoutdooradventures.com / hikingoutdooradventure8@gmail.com \nBook Now  \n#HOA360 #HikingOutdoorAdventures360 #NyamurindiraRocks #EliteHiking #AdventureModeON #ChallengeYourLimits #ExploreRwanda #VisitRwanda
URL:https://hikingoutdooradventures.com/event/nyamurindira-rocks-challenge-saturday-24th-january-2026/
CATEGORIES:Hiking
ATTACH;FMTTYPE=image/jpeg:https://hikingoutdooradventures.com/wp-content/uploads/2026/01/WhatsApp-Image-2026-01-22-at-7.50.45-AM.jpeg
ORGANIZER;CN="Hiking Outdoor Adventure":MAILTO:info@hikingoutdooradventure.com
END:VEVENT
END:VCALENDAR