BEGIN:VCALENDAR
VERSION:2.0
PRODID:-//Hiking Outdoor Adventure - ECPv6.15.20//NONSGML v1.0//EN
CALSCALE:GREGORIAN
METHOD:PUBLISH
X-ORIGINAL-URL:https://hikingoutdooradventures.com
X-WR-CALDESC:Events for Hiking Outdoor Adventure
REFRESH-INTERVAL;VALUE=DURATION:PT1H
X-Robots-Tag:noindex
X-PUBLISHED-TTL:PT1H
BEGIN:VTIMEZONE
TZID:Africa/Kigali
BEGIN:STANDARD
TZOFFSETFROM:+0200
TZOFFSETTO:+0200
TZNAME:CAT
DTSTART:20250101T000000
END:STANDARD
END:VTIMEZONE
BEGIN:VEVENT
DTSTART;TZID=Africa/Kigali:20260115T000000
DTEND;TZID=Africa/Kigali:20260118T000000
DTSTAMP:20260420T070419
CREATED:20251230T082730Z
LAST-MODIFIED:20251230T082740Z
UID:4964-1768435200-1768694400@hikingoutdooradventures.com
SUMMARY:15–18 January 2026 / An invitation to a rare experience
DESCRIPTION:The Nyungwe Traverse offers an exclusive\, small-group expedition through one of Africa’s most remarkable rainforests a journey designed for distinguished guests who value authenticity\, comfort\, and excellence in organization. \n  \nThis privileged experience is open to Rwandan and international VIP guests\, corporate leaders\, and members of the diplomatic community seeking a high-end adventure in Rwanda. \n📅 15–18 January 2026\n📏 48 km • 3 days\n💰 250\,000 RWF\n🥾 Level: High-Endurance / Elite Expedition \nThe expedition is professionally curated and guided by HOA 360\, a leading adventure organization with extensive expertise in extreme trekking and premium expedition experiences across Rwanda ensuring safety\, discretion\, and exceptional service throughout. \n\nFor further information or VIP reservations:\n📞 +250 795 296 557\n🌐 hikingoutdooradventures.com \nBook Now \nWe would be honored to welcome you. \nEmail: info@hikingOutdooradventures.com /hikingoutdooradventure8@gmail.com \nScan The QR code to Book or dial *669*2218# \n \n\n\n#EliteTrekking #LuxuryAdventureRwanda #NyungweTraverse \n\n\n#HOA360 #PremiumExpedition #VisitRwanda
URL:https://hikingoutdooradventures.com/event/15-18-january-2026-an-invitation-to-a-rare-experience/
CATEGORIES:Nyungwe Traverse
ATTACH;FMTTYPE=image/jpeg:https://hikingoutdooradventures.com/wp-content/uploads/2025/12/WhatsApp-Image-2025-12-30-at-8.06.37-AM.jpeg
ORGANIZER;CN="Hiking Outdoor Adventure":MAILTO:info@hikingoutdooradventure.com
END:VEVENT
END:VCALENDAR