BEGIN:VCALENDAR
VERSION:2.0
PRODID:-//Hiking Outdoor Adventure - ECPv6.15.20//NONSGML v1.0//EN
CALSCALE:GREGORIAN
METHOD:PUBLISH
X-ORIGINAL-URL:https://hikingoutdooradventures.com
X-WR-CALDESC:Events for Hiking Outdoor Adventure
REFRESH-INTERVAL;VALUE=DURATION:PT1H
X-Robots-Tag:noindex
X-PUBLISHED-TTL:PT1H
BEGIN:VTIMEZONE
TZID:Africa/Kigali
BEGIN:STANDARD
TZOFFSETFROM:+0200
TZOFFSETTO:+0200
TZNAME:CAT
DTSTART:20250101T000000
END:STANDARD
END:VTIMEZONE
BEGIN:VEVENT
DTSTART;TZID=Africa/Kigali:20260110T080000
DTEND;TZID=Africa/Kigali:20260110T080000
DTSTAMP:20260420T051329
CREATED:20260106T083332Z
LAST-MODIFIED:20260106T083932Z
UID:4978-1768032000-1768032000@hikingoutdooradventures.com
SUMMARY:10 January 2026 / Gashora Mark your calendar
DESCRIPTION:Mark your calendar  Gashora is happening on 10 January 2026! We begin at Eagle View Farm\, a scenic eco-farm offering stunning landscapes\, quiet trails\, and an authentic rural experience. \n  \nOur journey will lead us to Lake Mirayi\, a serene natural lake perfect for breathtaking views and nature exploration. Prepare for a day full of challenge\, discovery\, and adventure! \n\n📞 Contact: +250 795 296 557 \nEmail: info@hikingOutdooradventures.com / hikingoutdooradventure8@gmail.com \nBook Now \n🌐 www.hikingoutdooradventures.com \nBook your spot Now by Dial *669*2218# or scan the QR Code \n\n#GashoraHike #LakeMirayi #EagleViewFarm #HOA360\n#ExploreRwanda #VisitRwanda #AdventureRwanda\n#HikingRwanda #OutdoorAdventure #TrekkingRwanda
URL:https://hikingoutdooradventures.com/event/10-january-2026-gashora-mark-your-calendar/
CATEGORIES:Hiking
ATTACH;FMTTYPE=image/jpeg:https://hikingoutdooradventures.com/wp-content/uploads/2026/01/WhatsApp-Image-2026-01-06-at-8.57.58-AM.jpeg
ORGANIZER;CN="Hiking Outdoor Adventure":MAILTO:info@hikingoutdooradventure.com
END:VEVENT
END:VCALENDAR