BEGIN:VCALENDAR
VERSION:2.0
PRODID:-//Hiking Outdoor Adventure - ECPv6.15.20//NONSGML v1.0//EN
CALSCALE:GREGORIAN
METHOD:PUBLISH
X-WR-CALNAME:Hiking Outdoor Adventure
X-ORIGINAL-URL:https://hikingoutdooradventures.com
X-WR-CALDESC:Events for Hiking Outdoor Adventure
REFRESH-INTERVAL;VALUE=DURATION:PT1H
X-Robots-Tag:noindex
X-PUBLISHED-TTL:PT1H
BEGIN:VTIMEZONE
TZID:Africa/Kigali
BEGIN:STANDARD
TZOFFSETFROM:+0200
TZOFFSETTO:+0200
TZNAME:CAT
DTSTART:20250101T000000
END:STANDARD
END:VTIMEZONE
BEGIN:VEVENT
DTSTART;TZID=Africa/Kigali:20260103T073000
DTEND;TZID=Africa/Kigali:20260103T073000
DTSTAMP:20260420T051112
CREATED:20251230T083437Z
LAST-MODIFIED:20251230T083508Z
UID:4972-1767425400-1767425400@hikingoutdooradventures.com
SUMMARY:03 January 2026 / AMAZING ADVENTURE TO MOUNT FUMBWE
DESCRIPTION:Join HOA 360 for a thrilling hike across scenic hills\, lake views\, and forested trails — the perfect challenge to start your year strong. \n📅 Date: 03 January 2026\n📍 Location: Mount Fumbwe\n🅿️ Parking: Kwa Kabarisa – Nyagasambu\n🗺️ Itinerary: Mount Fumbwe ➝ Lake Muhazi loops\n⏰ Assembly: 07:30 AM\n🚶‍♂️ Departure: 08:00 AM\n🥾 Distance: 16 km – Moderate adventure trail \nHOA 360 – Hiking Outdoor Adventures\nProfessional guides • Safe & adventurous experiences • Explore Rwanda with us\n💰 Guiding fee: 5\,000 RWF \n💳 Booking & payment via sinc.events\n🌐 www.hikingoutdooradventures.com\n📞 0795 296 557 \nBook Now \nEmail: info@hikingOutdooradventures.com / hikingoutdooradventure8@gmail.com \nPush your limits. Discover new trails. Hike with HOA 360.\nHashtags: #HOA360 #HikingOutdoorAdventures #MountFumbwe #FumbweHike #MuhaziLoops\n#ExploreRwanda #VisitRwanda #AdventureRwanda #HikingRwanda\n#TrekkingRwanda #LakeMuhazi #OutdoorLife #AdventureTravel\n#HikingCommunity #NatureLovers #WeekendAdventure #PushYourLimits
URL:https://hikingoutdooradventures.com/event/03-january-2026-amazing-adventure-to-mount-fumbwe/
CATEGORIES:Hiking
ATTACH;FMTTYPE=image/jpeg:https://hikingoutdooradventures.com/wp-content/uploads/2025/12/WhatsApp-Image-2025-12-30-at-8.09.29-AM.jpeg
ORGANIZER;CN="Hiking Outdoor Adventure":MAILTO:info@hikingoutdooradventure.com
END:VEVENT
END:VCALENDAR