BEGIN:VCALENDAR
VERSION:2.0
PRODID:-//Hiking Outdoor Adventure - ECPv6.15.20//NONSGML v1.0//EN
CALSCALE:GREGORIAN
METHOD:PUBLISH
X-WR-CALNAME:Hiking Outdoor Adventure
X-ORIGINAL-URL:https://hikingoutdooradventures.com
X-WR-CALDESC:Events for Hiking Outdoor Adventure
REFRESH-INTERVAL;VALUE=DURATION:PT1H
X-Robots-Tag:noindex
X-PUBLISHED-TTL:PT1H
BEGIN:VTIMEZONE
TZID:Africa/Kigali
BEGIN:STANDARD
TZOFFSETFROM:+0200
TZOFFSETTO:+0200
TZNAME:CAT
DTSTART:20240101T000000
END:STANDARD
END:VTIMEZONE
BEGIN:VEVENT
DTSTART;TZID=Africa/Kigali:20251220T080000
DTEND;TZID=Africa/Kigali:20251220T123000
DTSTAMP:20260420T070409
CREATED:20251215T112159Z
LAST-MODIFIED:20251215T112218Z
UID:4957-1766217600-1766233800@hikingoutdooradventures.com
SUMMARY:20 December 2025 / HIKING AT GREEN SPORT PARK Gahanga
DESCRIPTION:HOA 360 – Hiking Outdoor Adventures 360\n360° of Nature\, Challenge & Fun ✨️♥️ 🇷🇼 \nHIKING AT GREEN SPORT PARK Gahanga \n🥾 LEVEL: 12 Km • Medium \n📅 Saturday\, 20 December 2025\n⏰ 08:00 AM – 12:30 PM\n📍 Meet / Start: Green Sport Park\, Gahanga \nPAYMENT & BOOKING\n💰 Pay via Sinc Events\n*669*2218# Fee 5k \nPowered by Sinc Events \nEmail: info@hikingOutdooradventures.com / hikingoutdooradventure8@gmail.com \nBook Now \n📞 Call / WhatsApp: +250 795 296 557 \nHOA 360 — Adventure • Endurance • Excellence \n#HOA360 #HikingOutdoorAdventures #GreenSportPark #Gahanga\n#HikingRwanda #ExploreRwanda #VisitRwanda\n#OutdoorAdventure #WeekendHike #ActiveLifestyle
URL:https://hikingoutdooradventures.com/event/20-december-2025-hiking-at-green-sport-park-gahanga/
CATEGORIES:Hiking
ATTACH;FMTTYPE=image/jpeg:https://hikingoutdooradventures.com/wp-content/uploads/2025/12/WhatsApp-Image-2025-12-15-at-1.13.46-PM.jpeg
END:VEVENT
END:VCALENDAR