BEGIN:VCALENDAR
VERSION:2.0
PRODID:-//Hiking Outdoor Adventure - ECPv6.15.20//NONSGML v1.0//EN
CALSCALE:GREGORIAN
METHOD:PUBLISH
X-WR-CALNAME:Hiking Outdoor Adventure
X-ORIGINAL-URL:https://hikingoutdooradventures.com
X-WR-CALDESC:Events for Hiking Outdoor Adventure
REFRESH-INTERVAL;VALUE=DURATION:PT1H
X-Robots-Tag:noindex
X-PUBLISHED-TTL:PT1H
BEGIN:VTIMEZONE
TZID:Africa/Kigali
BEGIN:STANDARD
TZOFFSETFROM:+0200
TZOFFSETTO:+0200
TZNAME:CAT
DTSTART:20240101T000000
END:STANDARD
END:VTIMEZONE
BEGIN:VEVENT
DTSTART;TZID=Africa/Kigali:20250927T073000
DTEND;TZID=Africa/Kigali:20250927T073000
DTSTAMP:20260422T124438
CREATED:20250925T071311Z
LAST-MODIFIED:20250925T071408Z
UID:4663-1758958200-1758958200@hikingoutdooradventures.com
SUMMARY:Sat\, 27 Sept 2025 / Bumbogo Hills – 16KM New Trail
DESCRIPTION:FREE HIKE ALERT!\nSat\, 27 Sept 2025\nBumbogo Hills – 16KM New Trail \n   \nMeeting: A Day at the Farm – 07h30 AM\nBring snacks\, water & a raincoat – adventure ready! \nChallenge yourself. Breathe nature. Explore Rwanda with us! \n+250 795 296 557\nwww.hikingoutdooradventures.com \nEmail: info@hikingoutdoor.com \n#HikingOutdoorAdventures #FreeHike #ExploreRwanda #BumbogoHills #AdventureAwaits
URL:https://hikingoutdooradventures.com/event/sat-27-sept-2025-bumbogo-hills-16km-new-trail/
CATEGORIES:Hiking
ATTACH;FMTTYPE=image/jpeg:https://hikingoutdooradventures.com/wp-content/uploads/2025/09/WhatsApp-Image-2025-09-25-at-8.01.30-AM.jpeg
ORGANIZER;CN="Hiking Outdoor Adventure":MAILTO:info@hikingoutdooradventure.com
END:VEVENT
END:VCALENDAR