BEGIN:VCALENDAR
VERSION:2.0
PRODID:-//Hiking Outdoor Adventure - ECPv6.15.20//NONSGML v1.0//EN
CALSCALE:GREGORIAN
METHOD:PUBLISH
X-ORIGINAL-URL:https://hikingoutdooradventures.com
X-WR-CALDESC:Events for Hiking Outdoor Adventure
REFRESH-INTERVAL;VALUE=DURATION:PT1H
X-Robots-Tag:noindex
X-PUBLISHED-TTL:PT1H
BEGIN:VTIMEZONE
TZID:Africa/Kigali
BEGIN:STANDARD
TZOFFSETFROM:+0200
TZOFFSETTO:+0200
TZNAME:CAT
DTSTART:20240101T000000
END:STANDARD
END:VTIMEZONE
BEGIN:VEVENT
DTSTART;TZID=Africa/Kigali:20250920T073000
DTEND;TZID=Africa/Kigali:20250920T073000
DTSTAMP:20260422T124515
CREATED:20250917T090622Z
LAST-MODIFIED:20250917T090642Z
UID:4641-1758353400-1758353400@hikingoutdooradventures.com
SUMMARY:Saturday\, Sept 20\, 2025/ Karuruma – Mount Jali (Hard Way) – Mount Bweramvura – Karuruma Loop
DESCRIPTION:Karuruma – Mount Jali (Hard Way) – Mount Bweramvura – Karuruma Loop \n✨ A challenging 17KM adventure with stunning views\, fresh air & great company! \n \nDate: Saturday\, Sept 20\, 2025\n⏰ Time: 07:30 AM\nMeeting Point: Parking Harmony Bar & Grill\, Karuruma \nHike Fee: 5\,000 RWF via MoMoPay 2202202\n⚡ Limited spots – Book Now! \n+250 795 296 557\nwww.hikingoutdooradventures.com \nEmail: info@hikingOutdooradventures.com / hikingoutdooradventure8@gmail.com
URL:https://hikingoutdooradventures.com/event/saturday-sept-20-2025-karuruma-mount-jali-hard-way-mount-bweramvura-karuruma-loop/
CATEGORIES:Hiking
ATTACH;FMTTYPE=image/jpeg:https://hikingoutdooradventures.com/wp-content/uploads/2025/09/WhatsApp-Image-2025-09-17-at-10.34.23-AM.jpeg
ORGANIZER;CN="Hiking Outdoor Adventure":MAILTO:info@hikingoutdooradventure.com
END:VEVENT
END:VCALENDAR