BEGIN:VCALENDAR
VERSION:2.0
PRODID:-//Hiking Outdoor Adventure - ECPv6.15.20//NONSGML v1.0//EN
CALSCALE:GREGORIAN
METHOD:PUBLISH
X-WR-CALNAME:Hiking Outdoor Adventure
X-ORIGINAL-URL:https://hikingoutdooradventures.com
X-WR-CALDESC:Events for Hiking Outdoor Adventure
REFRESH-INTERVAL;VALUE=DURATION:PT1H
X-Robots-Tag:noindex
X-PUBLISHED-TTL:PT1H
BEGIN:VTIMEZONE
TZID:Africa/Kigali
BEGIN:STANDARD
TZOFFSETFROM:+0200
TZOFFSETTO:+0200
TZNAME:CAT
DTSTART:20240101T000000
END:STANDARD
END:VTIMEZONE
BEGIN:VEVENT
DTSTART;TZID=Africa/Kigali:20250906T073000
DTEND;TZID=Africa/Kigali:20250906T073000
DTSTAMP:20260422T121635
CREATED:20250902T100516Z
LAST-MODIFIED:20250902T101103Z
UID:4462-1757143800-1757143800@hikingoutdooradventures.com
SUMMARY:Sat\, Sept 6 / 12KM Moderate Hike
DESCRIPTION:12KM Moderate Hike\nSat\, Sept 6 | ⏰ 07:30 AM\nHarmony Bar & Grill Parking\, Karuruma \n    \nHike Fee: 5\,000 RWF (MoMoPay 2202202) \n✨ After the hike:\nSwimming Pool Access\nLunch @ Eagle View Golf Kigali (23 KG 565 St)\n15\,000 RWF per person (MoMoPay 2202202) \n⚡ Book Now – Spots Limited! \n    \nEmail: info@hikingoutdooradventures.com \nBook Now \n#HikingOutdoorAdventures #ExploreRwanda #WeekendHikes #ChallengeYourself #OutdoorLife
URL:https://hikingoutdooradventures.com/event/sat-sept-6-12km-moderate-hike/
CATEGORIES:Hiking
ATTACH;FMTTYPE=image/jpeg:https://hikingoutdooradventures.com/wp-content/uploads/2025/09/WhatsApp-Image-2025-09-02-at-11.06.01_e3083d7e.jpg
ORGANIZER;CN="Hiking Outdoor Adventure":MAILTO:info@hikingoutdooradventure.com
END:VEVENT
END:VCALENDAR