BEGIN:VCALENDAR
VERSION:2.0
PRODID:-//Hiking Outdoor Adventure - ECPv6.15.20//NONSGML v1.0//EN
CALSCALE:GREGORIAN
METHOD:PUBLISH
X-WR-CALNAME:Hiking Outdoor Adventure
X-ORIGINAL-URL:https://hikingoutdooradventures.com
X-WR-CALDESC:Events for Hiking Outdoor Adventure
REFRESH-INTERVAL;VALUE=DURATION:PT1H
X-Robots-Tag:noindex
X-PUBLISHED-TTL:PT1H
BEGIN:VTIMEZONE
TZID:Africa/Kigali
BEGIN:STANDARD
TZOFFSETFROM:+0200
TZOFFSETTO:+0200
TZNAME:CAT
DTSTART:20240101T000000
END:STANDARD
END:VTIMEZONE
BEGIN:VEVENT
DTSTART;TZID=Africa/Kigali:20250727T060000
DTEND;TZID=Africa/Kigali:20250727T060000
DTSTAMP:20260422T154956
CREATED:20250708T101623Z
LAST-MODIFIED:20250708T102214Z
UID:4013-1753596000-1753596000@hikingoutdooradventures.com
SUMMARY:27th July 2025 / Conquer Nyamurindira Rocks
DESCRIPTION:✨ Hiking Outdoor Adventures\n27th July 2025\nConquer Nyamurindira Rocks \nJoin us for a wild day out! Take on a 14 km hike through the stunning landscapes of Nyamurindira Rocks. From bold cliffs to panoramic views\, this is your chance to explore one of Rwanda’s hidden treasures. \n       \n \nBe bold. Have fun. Let’s go hiking! \nOrganized by: Hiking Outdoor Adventures\n‪+250 795 296 557‬\nMoMoPay: 2202202 (Hiking Outdoor Adventures)\nFee: 25\,000 RWF\nMeeting Point: Chez Lando Hotel\, Remera\nDeparture: 06:00 AM sharp \nEmail: info@hikingoutdooradventures.com / hikingoutdooradventure8@gmail.com \nGet inspired View more about our experience conquering Nyamurindira Rocks \nBook Now
URL:https://hikingoutdooradventures.com/event/27th-july-2025-conquer-nyamurindira-rocks/
CATEGORIES:Hiking
ATTACH;FMTTYPE=image/jpeg:https://hikingoutdooradventures.com/wp-content/uploads/2025/07/WhatsApp-Image-2025-07-08-at-12.01.07_3666b739.jpg
ORGANIZER;CN="Hiking Outdoor Adventure":MAILTO:info@hikingoutdooradventure.com
END:VEVENT
END:VCALENDAR