BEGIN:VCALENDAR
VERSION:2.0
PRODID:-//Hiking Outdoor Adventure - ECPv6.15.20//NONSGML v1.0//EN
CALSCALE:GREGORIAN
METHOD:PUBLISH
X-WR-CALNAME:Hiking Outdoor Adventure
X-ORIGINAL-URL:https://hikingoutdooradventures.com
X-WR-CALDESC:Events for Hiking Outdoor Adventure
REFRESH-INTERVAL;VALUE=DURATION:PT1H
X-Robots-Tag:noindex
X-PUBLISHED-TTL:PT1H
BEGIN:VTIMEZONE
TZID:Africa/Kigali
BEGIN:STANDARD
TZOFFSETFROM:+0200
TZOFFSETTO:+0200
TZNAME:CAT
DTSTART:20240101T000000
END:STANDARD
END:VTIMEZONE
BEGIN:VEVENT
DTSTART;TZID=Africa/Kigali:20250719T060000
DTEND;TZID=Africa/Kigali:20250719T060000
DTSTAMP:20260422T154930
CREATED:20250708T085913Z
LAST-MODIFIED:20250708T090507Z
UID:4005-1752904800-1752904800@hikingoutdooradventures.com
SUMMARY:19th July 2025 / Kayak 5 km across Lake Muhazi
DESCRIPTION:KAYAK & HIKE \nKayak 5 km across Lake Muhazi\nHike 12 km through wild\, rugged terrain \n19th July 2025\nMeeting Point: Chez Lando Hotel\, Remera – 06:00 AM\nFee: 60\,000 RWF per person\nMoMoPay Code: 2202202 (Hiking Outdoor Adventures) \nIncluded: \n✅ Transport \n✅ Kayaks \n✅ Professional guides \n✅ Lunch (Brochettes & Chips) \n✅ Refreshment drinks during the challenge \n What to Bring For kayaking: \n✅ Relaxed clothes (expect to get wet) \n✅ Sandals \n What to Bring For hiking: \n✅ Light trousers \n✅ T-shirt \n✅ Small backpack with water\, snacks\, and a raincoat \n✅ Good hiking boots \nAlso bring: \n✅ Spare clothes for after the challenge \n⚠ Limited spots available – advance booking required!\nCall or WhatsApp: ‪+250 795 296 557‬ \nEmail: info@hikingoutdooradventures.com / hikingoutdooradventure8@gmail.com \nBook Now \nhttps://hikingoutdooradventures.com/wp-content/uploads/2025/07/WhatsApp-Video-2025-07-08-at-10.58.29_9ab5e2eb.mp4
URL:https://hikingoutdooradventures.com/event/19th-july-2025-kayak-5-km-across-lake-muhazi/
CATEGORIES:Hiking,Kayaking
ATTACH;FMTTYPE=image/jpeg:https://hikingoutdooradventures.com/wp-content/uploads/2025/07/WhatsApp-Image-2025-07-08-at-10.45.03_1118b423.jpg
ORGANIZER;CN="Hiking Outdoor Adventure":MAILTO:info@hikingoutdooradventure.com
END:VEVENT
END:VCALENDAR